BEGIN:VCALENDAR
VERSION:2.0
PRODID:-//Chard Guildhall - ECPv6.15.20//NONSGML v1.0//EN
CALSCALE:GREGORIAN
METHOD:PUBLISH
X-ORIGINAL-URL:https://chard-guildhall.co.uk
X-WR-CALDESC:Events for Chard Guildhall
REFRESH-INTERVAL;VALUE=DURATION:PT1H
X-Robots-Tag:noindex
X-PUBLISHED-TTL:PT1H
BEGIN:VTIMEZONE
TZID:Europe/London
BEGIN:DAYLIGHT
TZOFFSETFROM:+0000
TZOFFSETTO:+0100
TZNAME:BST
DTSTART:20210328T010000
END:DAYLIGHT
BEGIN:STANDARD
TZOFFSETFROM:+0100
TZOFFSETTO:+0000
TZNAME:GMT
DTSTART:20211031T010000
END:STANDARD
BEGIN:DAYLIGHT
TZOFFSETFROM:+0000
TZOFFSETTO:+0100
TZNAME:BST
DTSTART:20220327T010000
END:DAYLIGHT
BEGIN:STANDARD
TZOFFSETFROM:+0100
TZOFFSETTO:+0000
TZNAME:GMT
DTSTART:20221030T010000
END:STANDARD
BEGIN:DAYLIGHT
TZOFFSETFROM:+0000
TZOFFSETTO:+0100
TZNAME:BST
DTSTART:20230326T010000
END:DAYLIGHT
BEGIN:STANDARD
TZOFFSETFROM:+0100
TZOFFSETTO:+0000
TZNAME:GMT
DTSTART:20231029T010000
END:STANDARD
END:VTIMEZONE
BEGIN:VEVENT
DTSTART;TZID=Europe/London:20221108T190000
DTEND;TZID=Europe/London:20221108T193000
DTSTAMP:20260421T090906
CREATED:20221029T001000Z
LAST-MODIFIED:20221030T145932Z
UID:2415-1667934000-1667935800@chard-guildhall.co.uk
SUMMARY:HR & Personnel Committee Meeting
DESCRIPTION:
URL:https://chard-guildhall.co.uk/event/hr-personnel-committee-meeting-2/2022-11-08/
CATEGORIES:Council Meetings,Guildhall
ATTACH;FMTTYPE=image/png:https://chard-guildhall.co.uk/wp-content/uploads/2022/10/Slide10.png
END:VEVENT
BEGIN:VEVENT
DTSTART;TZID=Europe/London:20221114T183000
DTEND;TZID=Europe/London:20221114T190000
DTSTAMP:20260421T090906
CREATED:20221029T234712Z
LAST-MODIFIED:20221030T150335Z
UID:2394-1668450600-1668452400@chard-guildhall.co.uk
SUMMARY:Planning and Highways Committee Meeting
DESCRIPTION:
URL:https://chard-guildhall.co.uk/event/planning-and-highways-committee-meeting-2/2022-11-14/
LOCATION:The Guildhall\, Chard\, Guildhall\, Fore Street\, Chard\, TA20 1PP\, United Kingdom
CATEGORIES:Council Meetings,Guildhall
ATTACH;FMTTYPE=image/png:https://chard-guildhall.co.uk/wp-content/uploads/2022/10/Slide10.png
ORGANIZER;CN="Chard Town Council":MAILTO:chardtowncouncil@chard.gov.uk
END:VEVENT
BEGIN:VEVENT
DTSTART;TZID=Europe/London:20221114T190000
DTEND;TZID=Europe/London:20221114T193000
DTSTAMP:20260421T090906
CREATED:20221027T202656Z
LAST-MODIFIED:20221030T150346Z
UID:695-1668452400-1668454200@chard-guildhall.co.uk
SUMMARY:Full Council Committee Meeting
DESCRIPTION:
URL:https://chard-guildhall.co.uk/event/full-council-committee-meeting/
LOCATION:The Guildhall\, Chard\, Guildhall\, Fore Street\, Chard\, TA20 1PP\, United Kingdom
CATEGORIES:Council Meetings,Guildhall
ATTACH;FMTTYPE=image/png:https://chard-guildhall.co.uk/wp-content/uploads/2022/10/Slide10.png
ORGANIZER;CN="Chard Town Council":MAILTO:chardtowncouncil@chard.gov.uk
END:VEVENT
BEGIN:VEVENT
DTSTART;TZID=Europe/London:20221116T110000
DTEND;TZID=Europe/London:20221116T113000
DTSTAMP:20260421T090906
CREATED:20221027T202656Z
LAST-MODIFIED:20221030T150348Z
UID:698-1668596400-1668598200@chard-guildhall.co.uk
SUMMARY:Chairs Monthly Meeting
DESCRIPTION:
URL:https://chard-guildhall.co.uk/event/chairs-monthly-meeting/2022-11-16/
LOCATION:The Guildhall\, Chard\, Guildhall\, Fore Street\, Chard\, TA20 1PP\, United Kingdom
CATEGORIES:Council Meetings,Guildhall
ATTACH;FMTTYPE=image/png:https://chard-guildhall.co.uk/wp-content/uploads/2022/10/Slide10.png
ORGANIZER;CN="Chard Town Council":MAILTO:chardtowncouncil@chard.gov.uk
END:VEVENT
END:VCALENDAR