BEGIN:VCALENDAR
VERSION:2.0
PRODID:-//Chard Guildhall - ECPv6.15.20//NONSGML v1.0//EN
CALSCALE:GREGORIAN
METHOD:PUBLISH
X-WR-CALNAME:Chard Guildhall
X-ORIGINAL-URL:https://chard-guildhall.co.uk
X-WR-CALDESC:Events for Chard Guildhall
REFRESH-INTERVAL;VALUE=DURATION:PT1H
X-Robots-Tag:noindex
X-PUBLISHED-TTL:PT1H
BEGIN:VTIMEZONE
TZID:Europe/London
BEGIN:DAYLIGHT
TZOFFSETFROM:+0000
TZOFFSETTO:+0100
TZNAME:BST
DTSTART:20220327T010000
END:DAYLIGHT
BEGIN:STANDARD
TZOFFSETFROM:+0100
TZOFFSETTO:+0000
TZNAME:GMT
DTSTART:20221030T010000
END:STANDARD
BEGIN:DAYLIGHT
TZOFFSETFROM:+0000
TZOFFSETTO:+0100
TZNAME:BST
DTSTART:20230326T010000
END:DAYLIGHT
BEGIN:STANDARD
TZOFFSETFROM:+0100
TZOFFSETTO:+0000
TZNAME:GMT
DTSTART:20231029T010000
END:STANDARD
BEGIN:DAYLIGHT
TZOFFSETFROM:+0000
TZOFFSETTO:+0100
TZNAME:BST
DTSTART:20240331T010000
END:DAYLIGHT
BEGIN:STANDARD
TZOFFSETFROM:+0100
TZOFFSETTO:+0000
TZNAME:GMT
DTSTART:20241027T010000
END:STANDARD
END:VTIMEZONE
BEGIN:VEVENT
DTSTART;TZID=Europe/London:20231012T103000
DTEND;TZID=Europe/London:20231012T143000
DTSTAMP:20260424T184434
CREATED:20231002T162206Z
LAST-MODIFIED:20231002T162208Z
UID:6680-1697106600-1697121000@chard-guildhall.co.uk
SUMMARY:Chard Jobs Fair (Hosted by Somerset Jobs)
DESCRIPTION:
URL:https://chard-guildhall.co.uk/event/chard-jobs-fair-hosted-by-somerset-jobs/
CATEGORIES:community,Fairs & Markets
ATTACH;FMTTYPE=image/jpeg:https://chard-guildhall.co.uk/wp-content/uploads/2023/10/Somerset-Jobs-Oct-23.jpg
END:VEVENT
END:VCALENDAR