BEGIN:VCALENDAR
VERSION:2.0
PRODID:-//Chard Guildhall - ECPv6.15.20//NONSGML v1.0//EN
CALSCALE:GREGORIAN
METHOD:PUBLISH
X-WR-CALNAME:Chard Guildhall
X-ORIGINAL-URL:https://chard-guildhall.co.uk
X-WR-CALDESC:Events for Chard Guildhall
REFRESH-INTERVAL;VALUE=DURATION:PT1H
X-Robots-Tag:noindex
X-PUBLISHED-TTL:PT1H
BEGIN:VTIMEZONE
TZID:Europe/London
BEGIN:DAYLIGHT
TZOFFSETFROM:+0000
TZOFFSETTO:+0100
TZNAME:BST
DTSTART:20260329T010000
END:DAYLIGHT
BEGIN:STANDARD
TZOFFSETFROM:+0100
TZOFFSETTO:+0000
TZNAME:GMT
DTSTART:20261025T010000
END:STANDARD
BEGIN:DAYLIGHT
TZOFFSETFROM:+0000
TZOFFSETTO:+0100
TZNAME:BST
DTSTART:20270328T010000
END:DAYLIGHT
BEGIN:STANDARD
TZOFFSETFROM:+0100
TZOFFSETTO:+0000
TZNAME:GMT
DTSTART:20271031T010000
END:STANDARD
BEGIN:DAYLIGHT
TZOFFSETFROM:+0000
TZOFFSETTO:+0100
TZNAME:BST
DTSTART:20280326T010000
END:DAYLIGHT
BEGIN:STANDARD
TZOFFSETFROM:+0100
TZOFFSETTO:+0000
TZNAME:GMT
DTSTART:20281029T010000
END:STANDARD
END:VTIMEZONE
BEGIN:VEVENT
DTSTART;TZID=Europe/London:20270701T080000
DTEND;TZID=Europe/London:20270701T130000
DTSTAMP:20260421T072607
CREATED:20221027T195934Z
LAST-MODIFIED:20251205T143420Z
UID:11385-1814428800-1814446800@chard-guildhall.co.uk
SUMMARY:Chard Antiques\, Craft & Vintage Fair
DESCRIPTION:Every Thursday morning the Guildhall in Chard becomes home to one of the longest running indoor antiques fairs in the county!\nStarted in 1967 as an antiques fair this event has evolved over the years to include antiques\, crafts and vintage items for sale.\nThere is a wide variety of stalls selling items such as:\nAntiques & collectables\nCrafts\nJewellery\nHandmade cards\nMilitaria\nCurios & much more!\nCome and take a look\, you’ll be amazed at what you can find!\nIf you are interested in holding a stall at the Antiques Fair please contact us on 01460 239567.\nTable prices from £10.00.
URL:https://chard-guildhall.co.uk/event/chard-antiques-craft-vintage-fair-2025-12-11-2025-12-11/2027-07-01/
CATEGORIES:Fairs & Markets,Guildhall
END:VEVENT
BEGIN:VEVENT
DTSTART;TZID=Europe/London:20270703T090000
DTEND;TZID=Europe/London:20270703T123000
DTSTAMP:20260421T072607
CREATED:20221027T195935Z
LAST-MODIFIED:20221027T195935Z
UID:11386-1814605200-1814617800@chard-guildhall.co.uk
SUMMARY:Popular Fayre
DESCRIPTION:Homemade refreshments and a good variety of interesting items!
URL:https://chard-guildhall.co.uk/event/popular-fayre/2027-07-03/
LOCATION:The Guildhall\, Chard\, Guildhall\, Fore Street\, Chard\, TA20 1PP\, United Kingdom
CATEGORIES:Fairs & Markets,Guildhall
ATTACH;FMTTYPE=image/png:https://chard-guildhall.co.uk/wp-content/uploads/2024/02/Popular-Fayre.png
END:VEVENT
BEGIN:VEVENT
DTSTART;TZID=Europe/London:20270708T080000
DTEND;TZID=Europe/London:20270708T130000
DTSTAMP:20260421T072607
CREATED:20221027T195934Z
LAST-MODIFIED:20251205T143421Z
UID:11393-1815033600-1815051600@chard-guildhall.co.uk
SUMMARY:Chard Antiques\, Craft & Vintage Fair
DESCRIPTION:Every Thursday morning the Guildhall in Chard becomes home to one of the longest running indoor antiques fairs in the county!\nStarted in 1967 as an antiques fair this event has evolved over the years to include antiques\, crafts and vintage items for sale.\nThere is a wide variety of stalls selling items such as:\nAntiques & collectables\nCrafts\nJewellery\nHandmade cards\nMilitaria\nCurios & much more!\nCome and take a look\, you’ll be amazed at what you can find!\nIf you are interested in holding a stall at the Antiques Fair please contact us on 01460 239567.\nTable prices from £10.00.
URL:https://chard-guildhall.co.uk/event/chard-antiques-craft-vintage-fair-2025-12-11-2025-12-11/2027-07-08/
CATEGORIES:Fairs & Markets,Guildhall
END:VEVENT
BEGIN:VEVENT
DTSTART;TZID=Europe/London:20270715T080000
DTEND;TZID=Europe/London:20270715T130000
DTSTAMP:20260421T072607
CREATED:20221027T195934Z
LAST-MODIFIED:20251205T143421Z
UID:11408-1815638400-1815656400@chard-guildhall.co.uk
SUMMARY:Chard Antiques\, Craft & Vintage Fair
DESCRIPTION:Every Thursday morning the Guildhall in Chard becomes home to one of the longest running indoor antiques fairs in the county!\nStarted in 1967 as an antiques fair this event has evolved over the years to include antiques\, crafts and vintage items for sale.\nThere is a wide variety of stalls selling items such as:\nAntiques & collectables\nCrafts\nJewellery\nHandmade cards\nMilitaria\nCurios & much more!\nCome and take a look\, you’ll be amazed at what you can find!\nIf you are interested in holding a stall at the Antiques Fair please contact us on 01460 239567.\nTable prices from £10.00.
URL:https://chard-guildhall.co.uk/event/chard-antiques-craft-vintage-fair-2025-12-11-2025-12-11/2027-07-15/
CATEGORIES:Fairs & Markets,Guildhall
END:VEVENT
BEGIN:VEVENT
DTSTART;TZID=Europe/London:20270722T080000
DTEND;TZID=Europe/London:20270722T130000
DTSTAMP:20260421T072607
CREATED:20221027T195934Z
LAST-MODIFIED:20251205T143421Z
UID:11416-1816243200-1816261200@chard-guildhall.co.uk
SUMMARY:Chard Antiques\, Craft & Vintage Fair
DESCRIPTION:Every Thursday morning the Guildhall in Chard becomes home to one of the longest running indoor antiques fairs in the county!\nStarted in 1967 as an antiques fair this event has evolved over the years to include antiques\, crafts and vintage items for sale.\nThere is a wide variety of stalls selling items such as:\nAntiques & collectables\nCrafts\nJewellery\nHandmade cards\nMilitaria\nCurios & much more!\nCome and take a look\, you’ll be amazed at what you can find!\nIf you are interested in holding a stall at the Antiques Fair please contact us on 01460 239567.\nTable prices from £10.00.
URL:https://chard-guildhall.co.uk/event/chard-antiques-craft-vintage-fair-2025-12-11-2025-12-11/2027-07-22/
CATEGORIES:Fairs & Markets,Guildhall
END:VEVENT
BEGIN:VEVENT
DTSTART;TZID=Europe/London:20270729T080000
DTEND;TZID=Europe/London:20270729T130000
DTSTAMP:20260421T072607
CREATED:20221027T195934Z
LAST-MODIFIED:20251205T143422Z
UID:11432-1816848000-1816866000@chard-guildhall.co.uk
SUMMARY:Chard Antiques\, Craft & Vintage Fair
DESCRIPTION:Every Thursday morning the Guildhall in Chard becomes home to one of the longest running indoor antiques fairs in the county!\nStarted in 1967 as an antiques fair this event has evolved over the years to include antiques\, crafts and vintage items for sale.\nThere is a wide variety of stalls selling items such as:\nAntiques & collectables\nCrafts\nJewellery\nHandmade cards\nMilitaria\nCurios & much more!\nCome and take a look\, you’ll be amazed at what you can find!\nIf you are interested in holding a stall at the Antiques Fair please contact us on 01460 239567.\nTable prices from £10.00.
URL:https://chard-guildhall.co.uk/event/chard-antiques-craft-vintage-fair-2025-12-11-2025-12-11/2027-07-29/
CATEGORIES:Fairs & Markets,Guildhall
END:VEVENT
END:VCALENDAR